BEGIN:VCALENDAR
VERSION:2.0
PRODID:-//Afifi Shriners - ECPv6.15.17.1//NONSGML v1.0//EN
CALSCALE:GREGORIAN
METHOD:PUBLISH
X-WR-CALNAME:Afifi Shriners
X-ORIGINAL-URL:https://afifishriners.org
X-WR-CALDESC:Events for Afifi Shriners
REFRESH-INTERVAL;VALUE=DURATION:PT1H
X-Robots-Tag:noindex
X-PUBLISHED-TTL:PT1H
BEGIN:VTIMEZONE
TZID:America/Los_Angeles
BEGIN:DAYLIGHT
TZOFFSETFROM:-0800
TZOFFSETTO:-0700
TZNAME:PDT
DTSTART:20240310T100000
END:DAYLIGHT
BEGIN:STANDARD
TZOFFSETFROM:-0700
TZOFFSETTO:-0800
TZNAME:PST
DTSTART:20241103T090000
END:STANDARD
BEGIN:DAYLIGHT
TZOFFSETFROM:-0800
TZOFFSETTO:-0700
TZNAME:PDT
DTSTART:20250309T100000
END:DAYLIGHT
BEGIN:STANDARD
TZOFFSETFROM:-0700
TZOFFSETTO:-0800
TZNAME:PST
DTSTART:20251102T090000
END:STANDARD
BEGIN:DAYLIGHT
TZOFFSETFROM:-0800
TZOFFSETTO:-0700
TZNAME:PDT
DTSTART:20260308T100000
END:DAYLIGHT
BEGIN:STANDARD
TZOFFSETFROM:-0700
TZOFFSETTO:-0800
TZNAME:PST
DTSTART:20261101T090000
END:STANDARD
END:VTIMEZONE
BEGIN:VEVENT
DTSTART;TZID=America/Los_Angeles:20250803T140000
DTEND;TZID=America/Los_Angeles:20250803T170000
DTSTAMP:20260421T213704
CREATED:20250721T040511Z
LAST-MODIFIED:20250721T040729Z
UID:4247-1754229600-1754240400@afifishriners.org
SUMMARY:Unity March - 2025
DESCRIPTION:Come Fez Up at the Unity March in Dupont Washington. \nThis is being put on by the Most Worshipful Grand Lodge of Free and Accepted Masons of Washington as well as the Most Worshipful Prince Hall Grand Lodge of Washington. \nAppendent and Concordant Bodies are welcome to march in regalia at these events. \nWe would like if Shrine were represented. \nWe will park and show up around Iafrati Park and the Community Presbyterian Church of DuPont near Sellers Park @ 1:30PM. \nMasons are allowed to wear their aprons and officer jewels. If you are a Shriner\, you may wear a fez (no jewels or apron with Fez). \nIt is August and it has historically been known to be HOT. \nAfterward\, there will be a potluck BBQ at Sellers Park. Bring a dish or a side!
URL:https://afifishriners.org/event/unity-march-2025/
LOCATION:Iafrati Park\, 120 Barksdale Ave\, Dupont\, WA\, United States
END:VEVENT
BEGIN:VEVENT
DTSTART;TZID=America/Los_Angeles:20250809T080000
DTEND;TZID=America/Los_Angeles:20250809T170000
DTSTAMP:20260421T213704
CREATED:20250721T042624Z
LAST-MODIFIED:20250807T212237Z
UID:4259-1754726400-1754758800@afifishriners.org
SUMMARY:Morton Loggers Jubilee Parade - 2025
DESCRIPTION:  \nJoin us for another year out at the Morton Loggers Jubilee! \nSaturday\, August 9th\, 2025 \nParade begins promptly at 11:30AM. We will likely line up along Westlake Ave and 7th. (We are Number 52.). Staging encouraged at 9:30AM to get ahead of traffic. \nParking near the end of the parade encouraged on Westlake for a fast departure once the parade is complete. Additional parking/staging can be had near Morton HS and near 2nd and Westlake/Temple. \n  \n \n  \nMorton Afterparty at IS Ryan Wrights has been cancelled. Please find alternatives and be prepared for traffic exiting town.
URL:https://afifishriners.org/event/morton-loggers-jubilee-parade-2025/
LOCATION:Morton Staging Area\, 451 Knittles Way\, Morton\, WA\, United States
ORGANIZER;CN="Noble Joe Clark":MAILTO:clarkjr.cc@gmail.com
END:VEVENT
END:VCALENDAR