BEGIN:VCALENDAR
VERSION:2.0
PRODID:-//Afifi Shriners - ECPv6.15.17.1//NONSGML v1.0//EN
CALSCALE:GREGORIAN
METHOD:PUBLISH
X-ORIGINAL-URL:https://afifishriners.org
X-WR-CALDESC:Events for Afifi Shriners
REFRESH-INTERVAL;VALUE=DURATION:PT1H
X-Robots-Tag:noindex
X-PUBLISHED-TTL:PT1H
BEGIN:VTIMEZONE
TZID:America/Los_Angeles
BEGIN:DAYLIGHT
TZOFFSETFROM:-0800
TZOFFSETTO:-0700
TZNAME:PDT
DTSTART:20240310T100000
END:DAYLIGHT
BEGIN:STANDARD
TZOFFSETFROM:-0700
TZOFFSETTO:-0800
TZNAME:PST
DTSTART:20241103T090000
END:STANDARD
BEGIN:DAYLIGHT
TZOFFSETFROM:-0800
TZOFFSETTO:-0700
TZNAME:PDT
DTSTART:20250309T100000
END:DAYLIGHT
BEGIN:STANDARD
TZOFFSETFROM:-0700
TZOFFSETTO:-0800
TZNAME:PST
DTSTART:20251102T090000
END:STANDARD
BEGIN:DAYLIGHT
TZOFFSETFROM:-0800
TZOFFSETTO:-0700
TZNAME:PDT
DTSTART:20260308T100000
END:DAYLIGHT
BEGIN:STANDARD
TZOFFSETFROM:-0700
TZOFFSETTO:-0800
TZNAME:PST
DTSTART:20261101T090000
END:STANDARD
END:VTIMEZONE
BEGIN:VEVENT
DTSTART;TZID=America/Los_Angeles:20250724T080000
DTEND;TZID=America/Los_Angeles:20250724T170000
DTSTAMP:20260421T225525
CREATED:20250725T030506Z
LAST-MODIFIED:20250725T032454Z
UID:4312-1753344000-1753376400@afifishriners.org
SUMMARY:Camas Day Grand Parade - 2025
DESCRIPTION:Camas Days Grand Parade\n“Broadway Comes to Camas” \nCamas Days Parade Route\nWe’re excited to be a part of Camas Days Grand Parade again this year. \nThe theme is “Broadway Comes to Camas”. Have a performance? Have fun! \nParade begins promptly at 11:00 AM \nWe will begin lining up at 9:30 on 5th Avenue in Position #2545. \n 
URL:https://afifishriners.org/event/camas-day-grand-parade-2025/
END:VEVENT
END:VCALENDAR