BEGIN:VCALENDAR
VERSION:2.0
PRODID:-//Afifi Shriners - ECPv6.15.17.1//NONSGML v1.0//EN
CALSCALE:GREGORIAN
METHOD:PUBLISH
X-WR-CALNAME:Afifi Shriners
X-ORIGINAL-URL:https://afifishriners.org
X-WR-CALDESC:Events for Afifi Shriners
REFRESH-INTERVAL;VALUE=DURATION:PT1H
X-Robots-Tag:noindex
X-PUBLISHED-TTL:PT1H
BEGIN:VTIMEZONE
TZID:America/Los_Angeles
BEGIN:DAYLIGHT
TZOFFSETFROM:-0800
TZOFFSETTO:-0700
TZNAME:PDT
DTSTART:20240310T100000
END:DAYLIGHT
BEGIN:STANDARD
TZOFFSETFROM:-0700
TZOFFSETTO:-0800
TZNAME:PST
DTSTART:20241103T090000
END:STANDARD
BEGIN:DAYLIGHT
TZOFFSETFROM:-0800
TZOFFSETTO:-0700
TZNAME:PDT
DTSTART:20250309T100000
END:DAYLIGHT
BEGIN:STANDARD
TZOFFSETFROM:-0700
TZOFFSETTO:-0800
TZNAME:PST
DTSTART:20251102T090000
END:STANDARD
BEGIN:DAYLIGHT
TZOFFSETFROM:-0800
TZOFFSETTO:-0700
TZNAME:PDT
DTSTART:20260308T100000
END:DAYLIGHT
BEGIN:STANDARD
TZOFFSETFROM:-0700
TZOFFSETTO:-0800
TZNAME:PST
DTSTART:20261101T090000
END:STANDARD
END:VTIMEZONE
BEGIN:VEVENT
DTSTART;TZID=America/Los_Angeles:20250517T083000
DTEND;TZID=America/Los_Angeles:20250517T120000
DTSTAMP:20260422T150057
CREATED:20250514T041733Z
LAST-MODIFIED:20250514T041733Z
UID:4182-1747470600-1747483200@afifishriners.org
SUMMARY:Hazel Dell 2025
DESCRIPTION:Hazel Dell 2025\nSaturday 5/17/2025\nTheme: \n\n\n“Band Together for a Better Tomorrow”\n\nStage at 9:00AM @ 8800 NE Hazel Dell Avenue\, Hazel Dell\, WA \nParade STARTS at 10:30AM \nWe are invited to enjoy Coffee & Donuts from Hazel Dell Lion’s Club at the Clark County Fire District 6 Firehouse\, near our staging location. \n\nOn parade day\, all parade entries must enter the parade area from 99th Street south onto Hazel Dell Avenue. Entries will be directed to the Registration Area at 94th Street to check in and receive their numbers for staging prior to lining up for the parade. \n \n \nParade Route\n \n\nParade participants are responsible for clearing any debris or garbage they produce from the staging area and along the parade route.\nThrowing of candy\, food or other material from floats or any mechanical or animal drawn vehicle is strictly prohibited. Items may only be handed out to individuals. Please do not use squirt guns\, water balloons\, silly string or similar materials on people watching the parade.\n Speed within the staging area may not exceed five miles per hour (5 MPH). Participants must slow down to prevent injuries from occurring. Vehicles not in the parade are not allowed in the Registration Area due to the volume of parade entries.\n\nWe have been asked by the Parade Organizers to please make haste and not delay the parade as much as possible\, especially towards the end of the parade @ 78th and Hwy 99.
URL:https://afifishriners.org/event/hazel-dell-2025/
LOCATION:Fire District 6\, Station #1 Hazel Dell\, 8800 NE Hazel Dell Avenue\, Hazel Dell\, WA\, United States
CATEGORIES:Parades
END:VEVENT
BEGIN:VEVENT
DTSTART;TZID=America/Los_Angeles:20250503T090000
DTEND;TZID=America/Los_Angeles:20250504T170000
DTSTAMP:20260422T150057
CREATED:20250426T195052Z
LAST-MODIFIED:20250430T032946Z
UID:4159-1746262800-1746378000@afifishriners.org
SUMMARY:Ilwaco Childrens Parade & Long Beach 2025
DESCRIPTION:Ilwaco Children’s Parade\nMay 3\, 2025 \nCome join us in Long Beach for the dual parades! Our first parade is the Ilwaco Children’s Parade in Ilwaco\, WA. \n• 9:30AM – Travel to Parade Location for Staging and Check-In\n• 12:00PM – Parade Begins\n• 2:00PM – Closing Ceremonies & Fleet Blessing\n• 2:45PM – Return to Chuataugua Restort for BBQ and Fellowship. \n \nThis year\, the Parade begins with staging approximately 10AM. We will be lining up along the docks as imaged above. \nParade starts moving at Noon. Have yourself and your vehicle ready by then. \nWe will march down to the end of Howerton and make the curve up towards Lake St. Afterward\, we will drive back to the initial staging area in the parking lot at the corner of Howerton and Outer Harbor Front Way. \n  \nIf you haven’t already\, book your room at the Chautauqua Resort & Conference Center. Please tell them you are with the Shriners for the discounted room rate of $115/night. \nChautuaqua Resort & Conference Center\n304 14th Street NW Long Beach\, WA\nRooms – $115.00 per night – Condos 15% off Pet Friendly – $20.00 per night additional Phone: (360) 642-4401\nReservation Code: SHRINER CLOWNS \n  \nWe will have our Potluck at the hotel in the conference room. Be sure to SIGN UP for your side dishes\, beverages or otherwise on this list: POTLUCK ILWACO/LOYALTY DAYS \n  \nLoyalty Days Long Beach Parade\nMay 4\, 2025 \n \n  \n  \n• Pre-10AM – Breakfast on own.\n• 11:00AM – Stage @ Marker on 9th St N & Washington Ave N near Stanley Field. We will be at Marker #41.\n• 12:00PM – Organization and Last -Minute Checks\n• 1:00PM – Parade Starts\n• 2:00PM – Parade Ends @ 9th St S (Pack up and head home) \n  \n 
URL:https://afifishriners.org/event/ilwaco-long-beach-2025/
LOCATION:Chatauqua Resort & Conference Center\, 304 14th Street NW\, Long Beach\, WA\, United States
CATEGORIES:Fellowship,Parades
ORGANIZER;CN="Noble Joe Clark":MAILTO:clarkjr.cc@gmail.com
END:VEVENT
BEGIN:VEVENT
DTSTART;TZID=America/Los_Angeles:20250313T100000
DTEND;TZID=America/Los_Angeles:20250313T130000
DTSTAMP:20260422T150057
CREATED:20250313T214313Z
LAST-MODIFIED:20250313T214551Z
UID:4083-1741860000-1741870800@afifishriners.org
SUMMARY:Paddy Hough Parade - March 17th\, 2025
DESCRIPTION:  \nCome participate in the Paddy Hough Parade! \n \n  \nHere is the parade route. We will meet at Hough Elementary School on Daniels St at 10:00AM. \nWhen the parade starts at Noon\, we will begin heading North on Daniels. \n\nNorth on Daniels\nLeft on 23rd\nRight on Daniels\nRight on 24th\nRight on Main St.\nRight on McLoughlan\nRight on Daniels\n\nClown up! Wear green. Contact Noble Ron Fryer for additional information\, and Sign up below!
URL:https://afifishriners.org/event/paddy-hough-parade-march-17th-2025/
LOCATION:Hough Elementary School\, 1900 Daniels St #2535\, Vancouver\, WA\, 98660\, United States
END:VEVENT
BEGIN:VEVENT
DTSTART;TZID=America/Los_Angeles:20250111T100000
DTEND;TZID=America/Los_Angeles:20250111T160000
DTSTAMP:20260422T150057
CREATED:20241205T011029Z
LAST-MODIFIED:20250106T210004Z
UID:3781-1736589600-1736611200@afifishriners.org
SUMMARY:2025 Afifi Installation of Officers
DESCRIPTION:  \nTicket Purchasing now extended to January 11th!\n  \nYou are invited to attend the Afifi Shrine Installation of Officers for the 2025 ensuing year. \nJanuary Stated Meeting &\nInstallation of Officers \nPlace: Gibson House Event Center (in O’Blarney’s Pub)\,\n221 N Tower Ave\, Centralia\, WA \nDate: Saturday\, January 11th\, 2025\nTime: 10:00 AM \nNotice is given for the transaction of such\nregular business as may come before the\nTemple\, including end of year reports. \nInstallation—12:15 PM\nLunch at 1:15 PM \nPresentations/Closing following. \nEmail to afifishrine@gmail.com to make an RSVP for lunch. \nRSVP for Lunch – $25.00 \n  \nRSVP Strictly Enforced!
URL:https://afifishriners.org/event/2025-installation/
LOCATION:Gibson House Centrailia\, 221 N Tower Ave #311\, Centrailia\, WA\, 98531\, United States
ORGANIZER;CN="IS Rick Johnson":MAILTO:afifishrine@gmail.com
END:VEVENT
END:VCALENDAR