BEGIN:VCALENDAR
VERSION:2.0
PRODID:-//Afifi Shriners - ECPv6.15.17.1//NONSGML v1.0//EN
CALSCALE:GREGORIAN
METHOD:PUBLISH
X-ORIGINAL-URL:https://afifishriners.org
X-WR-CALDESC:Events for Afifi Shriners
REFRESH-INTERVAL;VALUE=DURATION:PT1H
X-Robots-Tag:noindex
X-PUBLISHED-TTL:PT1H
BEGIN:VTIMEZONE
TZID:America/Los_Angeles
BEGIN:DAYLIGHT
TZOFFSETFROM:-0800
TZOFFSETTO:-0700
TZNAME:PDT
DTSTART:20240310T100000
END:DAYLIGHT
BEGIN:STANDARD
TZOFFSETFROM:-0700
TZOFFSETTO:-0800
TZNAME:PST
DTSTART:20241103T090000
END:STANDARD
BEGIN:DAYLIGHT
TZOFFSETFROM:-0800
TZOFFSETTO:-0700
TZNAME:PDT
DTSTART:20250309T100000
END:DAYLIGHT
BEGIN:STANDARD
TZOFFSETFROM:-0700
TZOFFSETTO:-0800
TZNAME:PST
DTSTART:20251102T090000
END:STANDARD
BEGIN:DAYLIGHT
TZOFFSETFROM:-0800
TZOFFSETTO:-0700
TZNAME:PDT
DTSTART:20260308T100000
END:DAYLIGHT
BEGIN:STANDARD
TZOFFSETFROM:-0700
TZOFFSETTO:-0800
TZNAME:PST
DTSTART:20261101T090000
END:STANDARD
END:VTIMEZONE
BEGIN:VEVENT
DTSTART;TZID=America/Los_Angeles:20250517T083000
DTEND;TZID=America/Los_Angeles:20250517T120000
DTSTAMP:20260422T030914
CREATED:20250514T041733Z
LAST-MODIFIED:20250514T041733Z
UID:4182-1747470600-1747483200@afifishriners.org
SUMMARY:Hazel Dell 2025
DESCRIPTION:Hazel Dell 2025\nSaturday 5/17/2025\nTheme: \n\n\n“Band Together for a Better Tomorrow”\n\nStage at 9:00AM @ 8800 NE Hazel Dell Avenue\, Hazel Dell\, WA \nParade STARTS at 10:30AM \nWe are invited to enjoy Coffee & Donuts from Hazel Dell Lion’s Club at the Clark County Fire District 6 Firehouse\, near our staging location. \n\nOn parade day\, all parade entries must enter the parade area from 99th Street south onto Hazel Dell Avenue. Entries will be directed to the Registration Area at 94th Street to check in and receive their numbers for staging prior to lining up for the parade. \n \n \nParade Route\n \n\nParade participants are responsible for clearing any debris or garbage they produce from the staging area and along the parade route.\nThrowing of candy\, food or other material from floats or any mechanical or animal drawn vehicle is strictly prohibited. Items may only be handed out to individuals. Please do not use squirt guns\, water balloons\, silly string or similar materials on people watching the parade.\n Speed within the staging area may not exceed five miles per hour (5 MPH). Participants must slow down to prevent injuries from occurring. Vehicles not in the parade are not allowed in the Registration Area due to the volume of parade entries.\n\nWe have been asked by the Parade Organizers to please make haste and not delay the parade as much as possible\, especially towards the end of the parade @ 78th and Hwy 99.
URL:https://afifishriners.org/event/hazel-dell-2025/
LOCATION:Fire District 6\, Station #1 Hazel Dell\, 8800 NE Hazel Dell Avenue\, Hazel Dell\, WA\, United States
CATEGORIES:Parades
END:VEVENT
END:VCALENDAR