BEGIN:VCALENDAR
VERSION:2.0
PRODID:-//Afifi Shriners - ECPv6.15.17.1//NONSGML v1.0//EN
CALSCALE:GREGORIAN
METHOD:PUBLISH
X-ORIGINAL-URL:https://afifishriners.org
X-WR-CALDESC:Events for Afifi Shriners
REFRESH-INTERVAL;VALUE=DURATION:PT1H
X-Robots-Tag:noindex
X-PUBLISHED-TTL:PT1H
BEGIN:VTIMEZONE
TZID:America/Los_Angeles
BEGIN:DAYLIGHT
TZOFFSETFROM:-0800
TZOFFSETTO:-0700
TZNAME:PDT
DTSTART:20240310T100000
END:DAYLIGHT
BEGIN:STANDARD
TZOFFSETFROM:-0700
TZOFFSETTO:-0800
TZNAME:PST
DTSTART:20241103T090000
END:STANDARD
BEGIN:DAYLIGHT
TZOFFSETFROM:-0800
TZOFFSETTO:-0700
TZNAME:PDT
DTSTART:20250309T100000
END:DAYLIGHT
BEGIN:STANDARD
TZOFFSETFROM:-0700
TZOFFSETTO:-0800
TZNAME:PST
DTSTART:20251102T090000
END:STANDARD
BEGIN:DAYLIGHT
TZOFFSETFROM:-0800
TZOFFSETTO:-0700
TZNAME:PDT
DTSTART:20260308T100000
END:DAYLIGHT
BEGIN:STANDARD
TZOFFSETFROM:-0700
TZOFFSETTO:-0800
TZNAME:PST
DTSTART:20261101T090000
END:STANDARD
END:VTIMEZONE
BEGIN:VEVENT
DTSTART;TZID=America/Los_Angeles:20250531T083000
DTEND;TZID=America/Los_Angeles:20250531T113000
DTSTAMP:20260422T013932
CREATED:20250529T201248Z
LAST-MODIFIED:20250529T203545Z
UID:4228-1748680200-1748691000@afifishriners.org
SUMMARY:Paul Bunyan Parade Shelton 2025
DESCRIPTION:  \nPaul Bunyan Grand Parade 2025\nShelton\, WA \nArrival: 8:30AM \nStaging Location:  Marker #29 on 9th and Railroad. \n  \n \nDirections:  From US 101\, take the Shelton City Center/Matlock exit.  If traveling northbound\, turn right onto Railroad Ave; from southbound\, turn right onto Railroad Ave.  Follow Railroad Ave to the check-in booth ( 7th and Railroad).  Please allow time for getting to your staging area. \n-Check-in:  Is located at 7th and Railroad Ave. Please check in when you arrive.  Check-in and pre-staging begins at 7:30 a.m. Pre-staging is only needed for those units that take an extended time to set up (festival floats\, etc.).  All other entries should plan to arrive before 9:00 a.m.  Festival Floats\, the judging will begin at approximately 9:40 a.m.  All other applicable entries will be judged along the parade route.  — Drivers may unload on Railroad and then move the towing vehicles to Franklin near Loop Field. \n-Entry number: At check-in\, you will be given your printed entry number (which must be displayed on the front left of the entry) and directed to your staging area.  For staging\, entry numbers are located on small cones next to where you will assemble. There will be parade officials throughout the staging area should you have any questions. \n-When parade begins: The parade begins at 11 a.m. and you will be directed when to leave your staging area onto the parade route.  Please remember that “gaps are bad.”  When you are directed to start down the parade route\, please remain the same distance from the unit in front of you throughout the parade. \n-Awards: We hope to be able to hand out pre-judged awards as you start down the parade route.  All awards will be available at the logging show -Forest Festival booth after 1:00 p.m. \nMake plans to stay and enjoy the Logging Show at Loop Field.  The competition starts at 1:00 p.m.  While you’re there\, please visit the vendors. \nParade reminders: \n\n\nNo throwing candy or other items from floats or vehicles.    Please have walkers hand candy directly to spectators (this helps keep kids safe). \n\n\nNo Bull horns or loud speakers to yell at the crowd. \n\n\nBy participating in the parade\, you are agreeing to have your photo taken and used. \n\n\nBe Safe and Be Kind. \n\n\n  \n  \n 
URL:https://afifishriners.org/event/paul-bunyan-parade-shelton-2025/
LOCATION:Shelton\, WA\, S 9th St & Railroad\, Shelton\, WA\, 98584\, United States
ORGANIZER;CN="Noble Joe Clark":MAILTO:clarkjr.cc@gmail.com
END:VEVENT
END:VCALENDAR